BEGIN:VCALENDAR
VERSION:2.0
PRODID:-//Insideout Life - ECPv5.3.2.1//NONSGML v1.0//EN
CALSCALE:GREGORIAN
METHOD:PUBLISH
X-WR-CALNAME:Insideout Life
X-ORIGINAL-URL:https://www.insideoutlife.com.au
X-WR-CALDESC:Events for Insideout Life
BEGIN:VTIMEZONE
TZID:Australia/Melbourne
BEGIN:STANDARD
TZOFFSETFROM:+1100
TZOFFSETTO:+1000
TZNAME:AEST
DTSTART:20200404T160000
END:STANDARD
BEGIN:DAYLIGHT
TZOFFSETFROM:+1000
TZOFFSETTO:+1100
TZNAME:AEDT
DTSTART:20201003T160000
END:DAYLIGHT
END:VTIMEZONE
BEGIN:VEVENT
DTSTART;TZID=Australia/Melbourne:20200328T130000
DTEND;TZID=Australia/Melbourne:20200328T150000
DTSTAMP:20210302T075256
CREATED:20200225T235216Z
LAST-MODIFIED:20200311T082615Z
UID:379-1585400400-1585407600@www.insideoutlife.com.au
SUMMARY:Townsville 'Deeper' Worship Gathering
DESCRIPTION:FOR WORSHIP TEAMS & LEADERS   *Group Discount Available
URL:https://www.insideoutlife.com.au/event/townsville-deeper-worship-gathering/
LOCATION:Common Ground Church Of Christ\, Cnr Fulham Rd & Palmerston St\, Townsville\, QLD\, 4810\, Australia
ATTACH;FMTTYPE=image/png:https://www.insideoutlife.com.au/wp-content/uploads/2020/02/CG_weblogo2.png
END:VEVENT
END:VCALENDAR